BEGIN:VCALENDAR
VERSION:2.0
PRODID:-//wp-events-plugin.com//7.2.3.1//EN
TZID:Europe/Berlin
X-WR-TIMEZONE:Europe/Berlin
BEGIN:VEVENT
UID:9@mac-claymore.de
DTSTART;TZID=Europe/Berlin;VALUE=DATE:20240607
DTEND;TZID=Europe/Berlin;VALUE=DATE:20240610
DTSTAMP:20240203T181142Z
URL:https://www.mac-claymore.de/events/highland-games-bremen/
SUMMARY:Ganderkesee - Highland Games Bremen
DESCRIPTION:
CATEGORIES:Highland Games
LOCATION:Ganderkesee (Niedersachsen)\, Falkensteinsee\, Ganderkesee\, Niede
 rsachsen \, 27777\, Deutschland
GEO:53.046944;8.466111
X-APPLE-STRUCTURED-LOCATION;VALUE=URI;X-ADDRESS=Falkensteinsee\, Ganderkese
 e\, Niedersachsen \, 27777\, Deutschland;X-APPLE-RADIUS=100;X-TITLE=Gander
 kesee (Niedersachsen):geo:53.046944,8.466111
END:VEVENT
BEGIN:VTIMEZONE
TZID:Europe/Berlin
X-LIC-LOCATION:Europe/Berlin
BEGIN:DAYLIGHT
DTSTART:20240331T030000
TZOFFSETFROM:+0100
TZOFFSETTO:+0200
TZNAME:CEST
END:DAYLIGHT
END:VTIMEZONE
END:VCALENDAR